BEGIN:VCALENDAR
VERSION:2.0
PRODID:-//Council for the Deaf and Hard of Hearing - ECPv5.8.1//NONSGML v1.0//EN
CALSCALE:GREGORIAN
METHOD:PUBLISH
X-WR-CALNAME:Council for the Deaf and Hard of Hearing
X-ORIGINAL-URL:https://cdhh.idaho.gov
X-WR-CALDESC:Events for Council for the Deaf and Hard of Hearing
BEGIN:VTIMEZONE
TZID:America/Boise
BEGIN:DAYLIGHT
TZOFFSETFROM:-0700
TZOFFSETTO:-0600
TZNAME:MDT
DTSTART:20210314T090000
END:DAYLIGHT
BEGIN:STANDARD
TZOFFSETFROM:-0600
TZOFFSETTO:-0700
TZNAME:MST
DTSTART:20211107T080000
END:STANDARD
END:VTIMEZONE
BEGIN:VEVENT
DTSTART;TZID=America/Boise:20210303T190000
DTEND;TZID=America/Boise:20210303T210000
DTSTAMP:20210811T043828
CREATED:20200124T190529Z
LAST-MODIFIED:20200124T190621Z
UID:7159-1614798000-1614805200@cdhh.idaho.gov
SUMMARY:Open Captioned Movie (Boise)
DESCRIPTION:Open Captioned Movie first Wednesday of every month at OPC Movies. All 3 shows at 7pm MST will be open captioned
URL:https://cdhh.idaho.gov/event/open-captioned-movie-2-2021-03-03/
LOCATION:OPC Movies\, 7051 W Overland Rd\, Boise\, ID\, 83709\, United States
CATEGORIES:Treasure Valley
END:VEVENT
END:VCALENDAR